BEGIN:VCALENDAR
VERSION:2.0
PRODID:-//Xavier The X-Man - ECPv6.15.13//NONSGML v1.0//EN
CALSCALE:GREGORIAN
METHOD:PUBLISH
X-WR-CALNAME:Xavier The X-Man
X-ORIGINAL-URL:https://xmanshow.com
X-WR-CALDESC:Events for Xavier The X-Man
REFRESH-INTERVAL;VALUE=DURATION:PT1H
X-Robots-Tag:noindex
X-PUBLISHED-TTL:PT1H
BEGIN:VTIMEZONE
TZID:UTC
BEGIN:STANDARD
TZOFFSETFROM:+0000
TZOFFSETTO:+0000
TZNAME:UTC
DTSTART:20240101T000000
END:STANDARD
END:VTIMEZONE
BEGIN:VEVENT
DTSTART;TZID=UTC:20250803T100000
DTEND;TZID=UTC:20250803T150000
DTSTAMP:20260424T043150
CREATED:20230325T181440Z
LAST-MODIFIED:20260225T181946Z
UID:1497-1754215200-1754233200@xmanshow.com
SUMMARY:Xavier The X-Man's Cruise For The Cause Car Show
DESCRIPTION:Hi Friends\, \nIt’s back! Welcome to the 24th year of Xavier The X-Man’s Cruise for the Cause\, my annual FUNdraiser car show to benefit the Emilio Nares Foundation\, a local non-profit organization that provides free transportation services to help children battling cancer and their families. My car show helps keep the vans on the road. From paying for gas\, monthly oil changes\, new tires\, to tune ups and even sometimes in assisting with the purchase of an additional vehicle. This even helps keep the services free for those who need it most. \nThis year I’m happy to announce hundreds of vehicles will be on display from lowriders\, classics\, imports\, trucks\, euro\, hot rods\, to mini trucks\, motorcycles\, bikes\, pedal cars\, RC cars\, and kustoms with live entertainment\, fun activities for the kids\, vendor booths\, and more. \nRegister your vehicle today for this one-of-a-kind fundraiser and let’s raise money for these children. All registered donors will receive a commemorative Xavier The X-Man’s Cruise t-shirt day of the event at check in. \nI’m as excited as ever for reaching this event milestone of 24 years and seeing our community come together at Otay Ranch Town Center in Chula Vista to help the children with cancer. \nRegistration will be opening soon. \n\n\n\n\n  \nThanks for your support\, \nXavier The X-Man
URL:https://xmanshow.com/event/https-xman-ticketsauce-com-e-xavier-the-x-mans-23rd-annual-cruise/
LOCATION:Otay Ranch Town Center\, 2015 Birch Rd\, Chula Vista\, CA 91915\, Chula Vista
ATTACH;FMTTYPE=image/jpeg:https://xmanshow.com/wp-content/uploads/2022/09/Grooving-XMANSHOW.jpg
END:VEVENT
END:VCALENDAR