BEGIN:VCALENDAR
VERSION:2.0
PRODID:-//Xavier The X-Man - ECPv6.15.13//NONSGML v1.0//EN
CALSCALE:GREGORIAN
METHOD:PUBLISH
X-WR-CALNAME:Xavier The X-Man
X-ORIGINAL-URL:https://xmanshow.com
X-WR-CALDESC:Events for Xavier The X-Man
REFRESH-INTERVAL;VALUE=DURATION:PT1H
X-Robots-Tag:noindex
X-PUBLISHED-TTL:PT1H
BEGIN:VTIMEZONE
TZID:UTC
BEGIN:STANDARD
TZOFFSETFROM:+0000
TZOFFSETTO:+0000
TZNAME:UTC
DTSTART:20240101T000000
END:STANDARD
END:VTIMEZONE
BEGIN:VEVENT
DTSTART;TZID=UTC:20250327T100000
DTEND;TZID=UTC:20250327T130000
DTSTAMP:20260424T124030
CREATED:20240318T011004Z
LAST-MODIFIED:20250319T045549Z
UID:1741-1743069600-1743080400@xmanshow.com
SUMMARY:Opening Day Pre-Party HOSTED BY Xavier The X-Man
DESCRIPTION:  \n \nJoin Xavier The X-Man® LIVE at Swagyu Burger for a Padres Opening Day live broadcast and pre-game party! \nGrab a pre-game burger and hang with Magic 92.5 at the new Swagyu Burger downtown (yes\, it’s open!) \nStop for a chance to win prizes including tickets to Magic 92.5 Day at SeaWorld on April 2 to check out the all-new “Jewels of the Sea: The Jellyfish Experience”!
URL:https://xmanshow.com/event/opening-day-pre-party-hosted-by-xavier-the-x-man/
LOCATION:Swagyu Burger\, 315 10th Ave\, San Diego\, CA\, CA\, 92101\, United States
ATTACH;FMTTYPE=image/jpeg:https://xmanshow.com/wp-content/uploads/2024/03/xavier-padres-event-768x1024-1.jpg
END:VEVENT
END:VCALENDAR