BEGIN:VCALENDAR
VERSION:2.0
PRODID:-//Xavier The X-Man - ECPv6.15.13//NONSGML v1.0//EN
CALSCALE:GREGORIAN
METHOD:PUBLISH
X-WR-CALNAME:Xavier The X-Man
X-ORIGINAL-URL:https://xmanshow.com
X-WR-CALDESC:Events for Xavier The X-Man
REFRESH-INTERVAL;VALUE=DURATION:PT1H
X-Robots-Tag:noindex
X-PUBLISHED-TTL:PT1H
BEGIN:VTIMEZONE
TZID:UTC
BEGIN:STANDARD
TZOFFSETFROM:+0000
TZOFFSETTO:+0000
TZNAME:UTC
DTSTART:20210101T000000
END:STANDARD
END:VTIMEZONE
BEGIN:VTIMEZONE
TZID:America/Los_Angeles
BEGIN:DAYLIGHT
TZOFFSETFROM:-0800
TZOFFSETTO:-0700
TZNAME:PDT
DTSTART:20210314T100000
END:DAYLIGHT
BEGIN:STANDARD
TZOFFSETFROM:-0700
TZOFFSETTO:-0800
TZNAME:PST
DTSTART:20211107T090000
END:STANDARD
BEGIN:DAYLIGHT
TZOFFSETFROM:-0800
TZOFFSETTO:-0700
TZNAME:PDT
DTSTART:20220313T100000
END:DAYLIGHT
BEGIN:STANDARD
TZOFFSETFROM:-0700
TZOFFSETTO:-0800
TZNAME:PST
DTSTART:20221106T090000
END:STANDARD
BEGIN:DAYLIGHT
TZOFFSETFROM:-0800
TZOFFSETTO:-0700
TZNAME:PDT
DTSTART:20230312T100000
END:DAYLIGHT
BEGIN:STANDARD
TZOFFSETFROM:-0700
TZOFFSETTO:-0800
TZNAME:PST
DTSTART:20231105T090000
END:STANDARD
END:VTIMEZONE
BEGIN:VEVENT
DTSTART;TZID=UTC:20231229T080000
DTEND;TZID=UTC:20240101T170000
DTSTAMP:20260424T002453
CREATED:20231118T232657Z
LAST-MODIFIED:20231118T232835Z
UID:1675-1703836800-1704128400@xmanshow.com
SUMMARY:San Diego International Auto Show
DESCRIPTION:Join me at the San Diego International Auto Show Owned\, produced and presented by the New Car Dealers Association. \nThe San Diego International Auto Show has grown to become the second largest auto show in California and the highest-attended consumer event at the San Diego Convention Center. Chosen as a global destination for manufacturers to showcase their products\, the San Diego International Auto Show – Where the Cars are the Stars® – is one of the primary means of stimulating automobile sales throughout the county.
URL:https://xmanshow.com/event/san-diego-international-auto-show/
LOCATION:San Diego Convention Center\, 111 Harbor Dr.\, San Diego\, CA\, 92101\, United States
END:VEVENT
BEGIN:VEVENT
DTSTART;TZID=UTC:20231210T110000
DTEND;TZID=UTC:20231210T110000
DTSTAMP:20260424T002453
CREATED:20231201T060522Z
LAST-MODIFIED:20231201T060522Z
UID:1690-1702206000-1702206000@xmanshow.com
SUMMARY:Love Thy Homie HOLIDAY DRIVE
DESCRIPTION:Hosted by DJ Artistic – Come out and join me along with Tribal Street Wear\, Foos Gone Wild\, and a bunch of  other great community minded people and businesses all pitching in to help collect toys\, clothes\, food or donations. \nWill be raffling off some very unique items from artists like OG Abel\, Dyse One\, Bishop Tattoo Supply Company\, Estevan Oriol\, Ames\, and many others! Everyone that donates gets a raffle ticket to win these unique one of a kind art pieces & prices. \nThe items collected with be benefiting numerous nonprofits in San Diego from The Monarch School\, Grace W. Perkins elementary in Barrio Logan\, Love Thy Neighbor\, & Santa in the Hood.
URL:https://xmanshow.com/event/love-thy-homie-holiday-drive/
LOCATION:The Lower Left\, 471 17th St\, San Diego\, CA\, 92101\, United States
END:VEVENT
BEGIN:VEVENT
DTSTART;TZID=UTC:20231202T110000
DTEND;TZID=UTC:20231202T230000
DTSTAMP:20260424T002453
CREATED:20231118T231103Z
LAST-MODIFIED:20231118T231103Z
UID:1664-1701514800-1701558000@xmanshow.com
SUMMARY:December Nights at Balboa Park
DESCRIPTION:Enjoy special evening hours at Balboa Park Museums and family-friendly entertainment around every corner\, including music\, special attractions\, and amazing food among a festival of lights. \nHang in the Holiday Cheer Garden with delicious holiday themed cocktails and live musical performances presented by AARP at December Nights. Plus\, enter for a chance to win $1\,000 and get your stocking stuffed with holiday cash! \nExplore the Family Zone with free crafts for the kids\, pro skateboarding demos from Bones Love Milk\, and get your picture taken with Santa. \nCatch me DJing on Saturday kicking off a full day of festivities for the family.
URL:https://xmanshow.com/event/december-nights-at-balboa-park/
LOCATION:Balboa Park\, Sixth Ave & Laurel St\, San Diego\, CA\, 92103\, United States
ATTACH;FMTTYPE=image/jpeg:https://xmanshow.com/wp-content/uploads/2023/11/dec-nights-2023-759x506-1.jpg
END:VEVENT
BEGIN:VEVENT
DTSTART;TZID=UTC:20231202T100000
DTEND;TZID=UTC:20231202T140000
DTSTAMP:20260424T002453
CREATED:20231118T233402Z
LAST-MODIFIED:20231118T233402Z
UID:1682-1701511200-1701525600@xmanshow.com
SUMMARY:AB 436 Lowrider Celebration at Kimball Park
DESCRIPTION:‼️Lowrider Happening‼️with the United Lowrider Coalition (ULC) & David Alvarez 12.2.23 National City.
URL:https://xmanshow.com/event/2/
LOCATION:Kimball Park\, E 12th St.\, National City\, CA\, 91950\, United States
END:VEVENT
BEGIN:VEVENT
DTSTART;TZID=UTC:20231121T160000
DTEND;TZID=UTC:20231121T190000
DTSTAMP:20260424T002453
CREATED:20231118T230421Z
LAST-MODIFIED:20231118T230421Z
UID:1662-1700582400-1700593200@xmanshow.com
SUMMARY:Holiday Tree Lighting at Otay Ranch Town Center
DESCRIPTION:I’m excited to be hosting another great holiday community event in Chula Vista. Join me at Otay Ranch Town Center on Tuesday. They’ll be serving cookies & hot chocolate(while supplies last). 🍪 ☕️ Bring the family! 🎄
URL:https://xmanshow.com/event/holiday-tree-lighting-at-otay-ranch-town-center/
LOCATION:Otay Ranch Town Center\, 2015 Birch Rd\, Chula Vista\, CA 91915\, Chula Vista
ATTACH;FMTTYPE=image/jpeg:https://xmanshow.com/wp-content/uploads/2023/11/XMas-at-Otay-Ranch.jpg
END:VEVENT
BEGIN:VEVENT
DTSTART;TZID=UTC:20230924T120000
DTEND;TZID=UTC:20230924T150000
DTSTAMP:20260424T002453
CREATED:20230918T041621Z
LAST-MODIFIED:20230918T041804Z
UID:1653-1695556800-1695567600@xmanshow.com
SUMMARY:Magic 92.5 Weekend Grown Folks Pool Party
DESCRIPTION:Xavier The X-Man & Hurricane Andrew Back at Sycuan Casino Resort for a Sunday Funday Grown Folks Pool Party! \nThey’ll be spinning the tracks that make you move! Whether you’re into chart-topping hits or old-school classics\, we’ve got your groove covered. \nMake sure to reserve your day pass for the pool or book your cabana! \nGuests must be 21 years or older. Sycuan Casino Resort\, make it yours!
URL:https://xmanshow.com/event/magic-92-5-grown-folks-pool-party/
LOCATION:CA
ATTACH;FMTTYPE=image/jpeg:https://xmanshow.com/wp-content/uploads/2023/09/SanDiego925Day2.jpg
END:VEVENT
BEGIN:VEVENT
DTSTART;TZID=UTC:20230922T100000
DTEND;TZID=UTC:20230922T150000
DTSTAMP:20260424T002453
CREATED:20230918T041216Z
LAST-MODIFIED:20230918T041410Z
UID:1645-1695376800-1695394800@xmanshow.com
SUMMARY:Join Xavier The X-Man® for Magic 92.5 Day at Sycuan Casino Resort
DESCRIPTION:Join Xavier The X-Man for Magic 925 Weekend at Sycuan Casino Resort! \nXavier The X-Man® kicks things off with a LIVE Broadcast at Retreat Pool & Cabanas from 10am to 3pm. We will be hanging out poolside and spinning your favorite magic music! Plus\, enjoy food and drinks specials all day! \nMake sure to reserve your day pass for the pool or book your cabana! \nGuests must be 21 years or older. Sycuan Casino Resort\, make it yours!
URL:https://xmanshow.com/event/join-xavier-the-x-man-for-magic-92-5-day-at-sycuan-casino-resort/
LOCATION:Sycuan Casino Resort\, 5469 Casino Way El Cajon\, CA 92019\, CA\, United States
ATTACH;FMTTYPE=image/jpeg:https://xmanshow.com/wp-content/uploads/2023/09/Sycuan925Day1.jpg
END:VEVENT
BEGIN:VEVENT
DTSTART;TZID=UTC:20230609T190000
DTEND;TZID=UTC:20230609T190000
DTSTAMP:20260424T002453
CREATED:20230523T182141Z
LAST-MODIFIED:20230523T182141Z
UID:1602-1686337200-1686337200@xmanshow.com
SUMMARY:Purple Madness Party
DESCRIPTION:Are you ready to party like it’s 1999? Join MAGIC 92.5\, Xavier The X-Man® and “The Purple Madness” band\, America’s #1 Prince Experience Band for a Purple Madness Party at Sycuan Casino Resort on Friday\, June 9th!  Get ready to dance to all your favorite hits by “The Purple Madness” tribute band and let the purple rain fall all night long.  The party starts at 6:30 pm on Friday\, June 9th\, at Sycuan Casino Resort!  Hurricane Andrew and Billy Blast will be spinning some tunes before the concert.  There will also be a Prince Party Costume hosted by Xavier The X-Man®.\n\nSo mark your calendars\, grab your friends\, and get ready to party like never before at Sycuan Casino Resort\, MAKE IT YOURS!
URL:https://xmanshow.com/event/purple-madness-party/
LOCATION:Sycuan Casino Resort\, 5469 Casino Way El Cajon\, CA 92019\, CA\, United States
END:VEVENT
BEGIN:VEVENT
DTSTART;TZID=UTC:20230604T100000
DTEND;TZID=UTC:20230604T120000
DTSTAMP:20260424T002453
CREATED:20230531T061038Z
LAST-MODIFIED:20230531T061038Z
UID:1613-1685872800-1685880000@xmanshow.com
SUMMARY:Pick Your Part
DESCRIPTION:Attention all car enthusiasts or anyone just looking for a great deal! Join Xavier The X-Man and Magic 92.5 at Pick Your Part East in Chula Vista to win free tickets to a local waterpark and also the Janet Jackson concert! Plus\, we’ll have some delicious donuts and Señorita bread from the one and only StarBread Bakery. Don’t forget to bring your tools! Pick Your Part has affordable auto parts that won’t break the bank. \nEvery Sunday and Monday in June\, pay only $3 for entry into 1 Pick Your Part yards in Chula Vista and get FREE entry into the rest of the Chula Vista yards! \nEveryone is welcome\, but you must be 16+ to enter the yards.
URL:https://xmanshow.com/event/pick-your-part/
LOCATION:Pick Your Part East\, 880 Energy Way\, Chula Vista\, 91911\, United States
END:VEVENT
BEGIN:VEVENT
DTSTART;TZID=UTC:20230402T100000
DTEND;TZID=UTC:20230402T120000
DTSTAMP:20260424T002453
CREATED:20230325T183344Z
LAST-MODIFIED:20230325T192112Z
UID:1500-1680429600-1680436800@xmanshow.com
SUMMARY:Xavier The X-Man at the 22nd Meguiar’s Del Mar Nationals
DESCRIPTION:Join Xavier The X-Man and his sweet\, sweet ride on Sunday\, April 2nd from 10am to noon. The Goodguys shows are for all Hot Rod and Classic Car fans alike. Celebrate the twenty-second anniversary at the beautiful Del Mar Fairgrounds. It’s time for sun\, palm trees\, ocean breeze and good looking rides. Whether it’s your first show or tenth trip out we are very excited to have you come out for the day or stay for the whole weekend!
URL:https://xmanshow.com/event/join-xavier-the-x-man-at-the-22nd-meguiars-del-mar-nationals/
LOCATION:Del Mar Fairgrounds\, 2260 Jimmy Durante Blvd\, Del Mar\, CA 92014\, Del Mar\, CA\, CA\, United States
END:VEVENT
BEGIN:VEVENT
DTSTART;TZID=UTC:20230330T100000
DTEND;TZID=UTC:20230330T140000
DTSTAMP:20260424T002453
CREATED:20230325T190308Z
LAST-MODIFIED:20230325T190346Z
UID:1507-1680170400-1680184800@xmanshow.com
SUMMARY:The X-Man's Padres Opening Day Broadcast at El Chingon!
DESCRIPTION:Puro party for Padres Opening Day at El Chingon in the Gaslamp.  Join me along with Eazy Toys & Gabby’s face painting for some fun as we talk Padres baseball. ALL fans are welcomed to come.
URL:https://xmanshow.com/event/the-x-mans-padres-opening-day-broadcast-at-el-chingon/
LOCATION:El Chingon\, 560 Fifth Ave\, San Diego\, CA\, United States
ATTACH;FMTTYPE=image/jpeg:https://xmanshow.com/wp-content/uploads/2023/03/EciBZyyz_400x400.jpg
END:VEVENT
BEGIN:VEVENT
DTSTART;TZID=UTC:20221008T083000
DTEND;TZID=UTC:20221008T093000
DTSTAMP:20260424T002453
CREATED:20220910T214539Z
LAST-MODIFIED:20220910T215037Z
UID:1358-1665217800-1665221400@xmanshow.com
SUMMARY:Walk To End Alzheimer's With The X-Man
DESCRIPTION:Join Xavier The X-Man for the ‘Walk To End Alzheimer’s on October 8th at Liberty Station in San Diego! Can’t make the date? See more options here. \nAcross the nation\, the Alzheimer’s Association Walk to End Alzheimer’s® is full of flowers\, each carried by someone committed to ending this disease. Because like flowers\, our participants don’t stop when something’s in their way. They keep raising funds and awareness for a breakthrough in the fight against Alzheimer’s and all other dementia. \nRegister today for team Local Media San Diego!\nSupport our team for the Alzheimer’s Association Walk to End Alzheimer’s®\, the world’s largest event to raise awareness and funds for Alzheimer’s care\, support and research. \nTime: \n\nEvent Opens at 8:30 a.m.\nCeremony & Walk at 9:30 a.m. *subject to change
URL:https://xmanshow.com/event/walk-to-end-alzheimers-with-the-x-man/
LOCATION:Liberty Station\, 2640 Historic Decatur Road\, San Diego\, CA\, United States
ATTACH;FMTTYPE=image/jpeg:https://xmanshow.com/wp-content/uploads/2022/09/Walk-Header.jpg
END:VEVENT
BEGIN:VEVENT
DTSTART;TZID=America/Los_Angeles:20220923T100000
DTEND;TZID=America/Los_Angeles:20220923T150000
DTSTAMP:20260424T002453
CREATED:20220910T213338Z
LAST-MODIFIED:20220910T213834Z
UID:1351-1663927200-1663945200@xmanshow.com
SUMMARY:Celebrate Magic 92.5 Weekend at Sycuan Casino Resort
DESCRIPTION:Join Xavier The X-Man for Magic 925 Weekend at Sycuan Casino Resort! \nFriday\, September 23rd\,  Xavier The X-Man kicks things off with a LIVE Broadcast at Retreat Pool & Cabanas from 10am to 3pm. Make sure to reserve your day pass for the pool or book your cabana! Then he mixes from 7p to 9pm. Plus\, enjoy food and drinks specials all day! \nThen Sunday\, September 25th\, is 925 day! We’re bringing Magic 92.5 day back to Sycuan Casino Resort for another fun Pool Party at Retreat Pool & Cabanas from 1pm to 4pm! You will need a pool pass or daybed reservation to join us. Then STAY THE NIGHT with an exclusive hotel offer. \n \n\n\n\n\nFriday\, Sept 23rd – Join Xavier The X-Man® for a LIVE broadcast from 10am to 3pm at Retreat Pool & Cabanas
URL:https://xmanshow.com/event/celebrate-magic-92-5-weekend-at-sycuan-casino-resort/
LOCATION:Sycuan Casino Resort\, 5469 Casino Way El Cajon\, CA 92019\, CA\, United States
ATTACH;FMTTYPE=image/jpeg:https://xmanshow.com/wp-content/uploads/2022/09/KC8Yn154.jpg
END:VEVENT
END:VCALENDAR