BEGIN:VCALENDAR
VERSION:2.0
PRODID:-//Xavier The X-Man - ECPv6.15.13//NONSGML v1.0//EN
CALSCALE:GREGORIAN
METHOD:PUBLISH
X-WR-CALNAME:Xavier The X-Man
X-ORIGINAL-URL:https://xmanshow.com
X-WR-CALDESC:Events for Xavier The X-Man
REFRESH-INTERVAL;VALUE=DURATION:PT1H
X-Robots-Tag:noindex
X-PUBLISHED-TTL:PT1H
BEGIN:VTIMEZONE
TZID:UTC
BEGIN:STANDARD
TZOFFSETFROM:+0000
TZOFFSETTO:+0000
TZNAME:UTC
DTSTART:20250101T000000
END:STANDARD
END:VTIMEZONE
BEGIN:VEVENT
DTSTART;TZID=UTC:20260313T110000
DTEND;TZID=UTC:20260313T120000
DTSTAMP:20260423T191753
CREATED:20260213T232233Z
LAST-MODIFIED:20260213T232335Z
UID:1866-1773399600-1773403200@xmanshow.com
SUMMARY:U.S. Postal Service Lowrider Stamp EVENT!
DESCRIPTION:I’ll be your Master of Ceremony of the unveiling of the Lowrider Stamp. Come join us for this celebration. Please RSVP. \nThe U.S. Postal Service will issue Lowriders\, a set of new commemorative postage stamps. \nThe first-day-of-issue outdoor event is free and open to the public. News of the stamps is being shared with the hashtag #LowridersStamps. \nWho: \nGary Barksdale\, chief postal inspector\, U.S. Postal Inspection Service\, will serve as the dedicating official. \nWhen: \nFriday\, March 13\, 2026\, at 11 a.m. PDT \nWhere: \nLogan Heights Library\n567 S. 28th St.\nSan Diego\, CA 92113\nRSVP: \nAttendees are encouraged to register at https://www.usps.com/lowridersstamps. \nBackground: \nLow and slow: that’s the lowrider. When in motion\, these customized automobiles appear to glide over the road surface\, only to suddenly levitate and bounce up and down. These new stamps celebrate the lowrider culture that is rooted in 1940s-era working-class Mexican American/Chicano communities throughout the American Southwest. \nLowriders are viewed as rolling canvases of stylized art\, meant to be displayed in public spaces. The stamps feature photographs of five different lowriders\, richly adorned with dazzling paint jobs\, luxurious interiors\, and customized to hop\, bounce and cruise over the road surface. \nThe five models that grace the stamps are pictured from top left: a blue 1958 Chevrolet Impala named “Eight Figures”; an orange 1964 Chevrolet Impala named “The Golden Rose”; a green 1987 Oldsmobile Cutlass Supreme named “Pocket Change”; a blue 1946 Chevrolet Fleetline named “Let the Good Times Roll/Soy Como Soy”; and a red 1963 Chevrolet Impala named “El Rey.” \nAntonio Alcalá\, an art director for USPS\, designed the stamps using existing photographs by Humberto “Beto” Mendoza (“Eight Figures\,” “El Rey\,” “The Golden Rose”) and Philip Gordon (“Let the Good Times Roll/Soy Como Soy\,” “Pocket Change”). Danny Alvarado added the pinstriping on the stamps. \nThe Lowriders stamps will be issued in panes of 15. As Forever stamps\, they will always be equal in value to the current First-Class Mail 1-ounce price.
URL:https://xmanshow.com/event/u-s-postal-service-lowrider-stamp-event/
LOCATION:Logan Heights Library\, 567 S. 28th St. San Diego\, CA 92113\, San Diego\, 92113\, United States
ATTACH;FMTTYPE=image/jpeg:https://xmanshow.com/wp-content/uploads/2026/02/LowriderStamps.jpg
END:VEVENT
BEGIN:VEVENT
DTSTART;TZID=UTC:20260502T100000
DTEND;TZID=UTC:20270503T200000
DTSTAMP:20260423T191753
CREATED:20240121T010838Z
LAST-MODIFIED:20260213T231336Z
UID:1706-1777716000-1809374400@xmanshow.com
SUMMARY:SoCal Taco Fest
DESCRIPTION:  \n \nSoCal Taco Fest returns this May for its 12th Anniversary! We’re taking SoCal Taco Fest to a new location and making it bigger than ever. \nSaturday – 10am to 8:00pm\nSunday – 10am to 7:00pm \nSoCal Taco Fest is teaming up with SeaWorld’s Viva La Música for the ultimate all-ages music and culinary experience\, and celebration of the vibrant spirit of Latin culture. \nAll of your favorite SoCal Taco Fest entertainment will be there\, including:\n–  SoCal’s best taco shops and restaurants\n– Live music and DJs\n– Luche Libre\n– Margaritas and Micheladas\n– Chihuahua Races and Beauty Pageant to support the Chihuahua Rescue of San Diego County \nPlus\, all the incredible rides and entertainment at SeaWorld! \nGet tickets at https://seaworld.com/san-diego/special-offers/taco-fest/
URL:https://xmanshow.com/event/socal-taco-fest/
LOCATION:Sea World\, 500 Seaworld Dr.\, San Diego\, CA\, United States
ATTACH;FMTTYPE=image/jpeg:https://xmanshow.com/wp-content/uploads/2024/01/SOCAL-TACO-FEST-FRORNT.jpeg
END:VEVENT
END:VCALENDAR