BEGIN:VCALENDAR
VERSION:2.0
PRODID:-//Xavier The X-Man - ECPv6.15.13//NONSGML v1.0//EN
CALSCALE:GREGORIAN
METHOD:PUBLISH
X-WR-CALNAME:Xavier The X-Man
X-ORIGINAL-URL:https://xmanshow.com
X-WR-CALDESC:Events for Xavier The X-Man
REFRESH-INTERVAL;VALUE=DURATION:PT1H
X-Robots-Tag:noindex
X-PUBLISHED-TTL:PT1H
BEGIN:VTIMEZONE
TZID:UTC
BEGIN:STANDARD
TZOFFSETFROM:+0000
TZOFFSETTO:+0000
TZNAME:UTC
DTSTART:20240101T000000
END:STANDARD
END:VTIMEZONE
BEGIN:VEVENT
DTSTART;TZID=UTC:20250505T090000
DTEND;TZID=UTC:20250505T170000
DTSTAMP:20260424T110149
CREATED:20250423T031642Z
LAST-MODIFIED:20250423T031642Z
UID:1836-1746435600-1746464400@xmanshow.com
SUMMARY:Cinco De Mayo Golf Tourney With Lowriders(ULC)
DESCRIPTION:Our golf tournament will be a fun and exciting event designed to bring the community together\nfor a great cause: raising funds for our Youth Lowrider Bike Club. This bike club provides young\npeople with a creative outlet\, valuable skills\, and a positive environment where they can express\nthemselves through bike building and customization. By participating in or supporting the\ntournament\, you’re helping us empower our local youth\, promote teamwork\, and foster a sense \nof pride and achievement. \nJoin us in making a difference while enjoying a great day on the course! \nDate/Location: Monday\, May 5\, 2025 \nSteele Canyon Gold Club – 3199 Stonefield Drive\, Jamul CA 91935
URL:https://xmanshow.com/event/cinco-de-mayo-golf-tourney-with-lowridersulc/
LOCATION:Steele Canyon Gold Club\, 3199 Stonefield Drive\, Jamul\, CA\, 91935\, United States
ATTACH;FMTTYPE=image/jpeg:https://xmanshow.com/wp-content/uploads/2025/04/Golf-flyer-JPG.jpg
END:VEVENT
END:VCALENDAR