BEGIN:VCALENDAR
VERSION:2.0
PRODID:-//Xavier The X-Man - ECPv6.15.13//NONSGML v1.0//EN
CALSCALE:GREGORIAN
METHOD:PUBLISH
X-WR-CALNAME:Xavier The X-Man
X-ORIGINAL-URL:https://xmanshow.com
X-WR-CALDESC:Events for Xavier The X-Man
REFRESH-INTERVAL;VALUE=DURATION:PT1H
X-Robots-Tag:noindex
X-PUBLISHED-TTL:PT1H
BEGIN:VTIMEZONE
TZID:UTC
BEGIN:STANDARD
TZOFFSETFROM:+0000
TZOFFSETTO:+0000
TZNAME:UTC
DTSTART:20240101T000000
END:STANDARD
END:VTIMEZONE
BEGIN:VEVENT
DTSTART;TZID=UTC:20250429T170000
DTEND;TZID=UTC:20250429T190000
DTSTAMP:20260424T110150
CREATED:20250423T031052Z
LAST-MODIFIED:20250423T031052Z
UID:1831-1745946000-1745953200@xmanshow.com
SUMMARY:Join The X-Man At Northgate Market for a Chance To WIN!!!
DESCRIPTION:  \n  \nSoCal Taco Fest is just around the corner! Join Xavier The X-Man from 5p to 7pm at Northgate Market and get ready for tacos\, beers\, micheladas\, and a full day of fun at SeaWorld San Diego’s Viva La Música on Cinco de Mayo weekend! This year’s Taco Village Stage supported by Estrella Jalisco will feature DJ D-Rock\, Xavier The X-Man\, Hurricane Andrew and more! Come and hang with us for a chance to WIN TICKETS to SoCal Taco Fest\, celebrating 10 years – this year at SeaWorld’s Viva La Música happening on Cinco de Mayo Weekend! See you there!
URL:https://xmanshow.com/event/join-the-x-man-at-northgate-market-for-a-chance-to-win/
LOCATION:Northgate Market\, 1950 Main Street\, San Diego\, CA\, CA\, 92113\, United States
ATTACH;FMTTYPE=image/jpeg:https://xmanshow.com/wp-content/uploads/2025/04/SoCal-Taco-Fest-2023_1400x600_2.jpg
END:VEVENT
END:VCALENDAR