BEGIN:VCALENDAR
VERSION:2.0
PRODID:-//Xavier The X-Man - ECPv6.15.13//NONSGML v1.0//EN
CALSCALE:GREGORIAN
METHOD:PUBLISH
X-ORIGINAL-URL:https://xmanshow.com
X-WR-CALDESC:Events for Xavier The X-Man
REFRESH-INTERVAL;VALUE=DURATION:PT1H
X-Robots-Tag:noindex
X-PUBLISHED-TTL:PT1H
BEGIN:VTIMEZONE
TZID:UTC
BEGIN:STANDARD
TZOFFSETFROM:+0000
TZOFFSETTO:+0000
TZNAME:UTC
DTSTART:20240101T000000
END:STANDARD
END:VTIMEZONE
BEGIN:VEVENT
DTSTART;TZID=UTC:20250426T120000
DTEND;TZID=UTC:20250426T160000
DTSTAMP:20260424T123951
CREATED:20250423T030705Z
LAST-MODIFIED:20250423T030705Z
UID:1826-1745668800-1745683200@xmanshow.com
SUMMARY:Spring Fest 2025
DESCRIPTION:Join Xavier the X-Man® and Magic 92.5 at the Inaugural Spring Fest 2025 at the Jacob’s @ Market Creek Plaza. The event will take place from 12-4pm; X-Man® will be Kicking it off for the first 2 hours\, so arrive early! \nEnter at the Magic 92.5 tent to win a $250 Visa gift card courtesy of Andor Season 2\, Streaming April 22nd only on DisneyPlus! \nEnjoy games\, activities\, goodie bags\, music\, ice cream giveaways\, local vendors and more…all thanks to the Diamond B.I.D. brought to you by SD County Black Chamber of Commerce. \nFind us on the grass area beside Food 4 Less. Free Parking! See you there.
URL:https://xmanshow.com/event/spring-fest-2025/
LOCATION:Market Creek Plaza\, 310 Euclid Ave\, San Diego\, CA\, CA\, 92114\, United States
ATTACH;FMTTYPE=image/jpeg:https://xmanshow.com/wp-content/uploads/2025/04/Spring-Festival-2025_1400x600.jpg
END:VEVENT
END:VCALENDAR